Workbook

Sheet Tritium

Sheet Übrige

Sheet  Übrige (Aeq.)

Sheet Januar
A1: Radioaktive Abgaben der schweizerischen Kernkraftwerke*
A2: Abgabepfad: Abwasser
A3: Zeitraum: | B3: 1. Januar 2026 - 31. Januar 2026
B5: Aktivitätsabgaben [Bq]
A6: Nuklid | B6: KKB 1/2 | C6: KKG | D6: KKL | E6: KKM
A7: H-3 | B7: 11730908000 | C7: 33000000000 | D7: 19962600000 | E7: 1370250000
A8: Na-22
A9: Na-24 | E9: 0
A10: Cr-51 | E10: 0
A11: Mn-54 | B11: 461776 | E11: 0
A12: Fe-59 | E12: 0
A13: Co-56
A14: Co-57 | E14: 0
A15: Co-58 | B15: 497026.8 | E15: 0
A16: Co-60 | B16: 6870254.7 | D16: 1399419 | E16: 0
A17: Zn-65 | B17: 3238348 | E17: 0
A18: Sr-89 ** | B18: 16271.28 | E18: 0
A19: Sr-90 ** | B19: 80143.2 | E19: 0
A20: Y-90 | E20: 0
A21: Zr-95 | E21: 0
A22: Zr-97
A23: Nb-95 | E23: 0
A24: Mo-99 | E24: 0
A25: Tc-99
A26: Tc-99m | E26: 0
A27: Ru-103 | E27: 0
A28: Ru-106
A29: Ag-110m | B29: 531071.2 | E29: 0
A30: Sb-122
A31: Sb-124 | B31: 3511556 | E31: 0
A32: Sb-125 | B32: 3601198 | E32: 0
A33: Te-123m | B33: 805329
A34: Te-132
A35: I-131 | B35: 73425 | E35: 0
A36: I-133 | E36: 0
A37: Cs-134 | E37: 0
A38: Cs-136
A39: Cs-137 | B39: 1772618.5 | E39: 0
A40: Ba-140 | E40: 0
A41: La-140 | E41: 0
...

Sheet Februar
A1: Radioaktive Abgaben der schweizerischen Kernkraftwerke*
A2: Abgabepfad: Abwasser
A3: Zeitraum: | B3: 1. Februar 2026 - 28. Februar 2026
B5: Aktivitätsabgaben [Bq]
A6: Nuklid | B6: KKB 1/2 | C6: KKG | D6: KKL | E6: KKM
A7: H-3 | B7: 1573959900000 | C7: 130000000000 | D7: 30586800000 | E7: 2656276800
A8: Na-22
A9: Na-24 | E9: 0
A10: Cr-51 | E10: 0
A11: Mn-54 | B11: 347332 | D11: 172104.6 | E11: 0
A12: Fe-59 | E12: 0
A13: Co-56
A14: Co-57 | E14: 0
A15: Co-58 | B15: 308550 | E15: 0
A16: Co-60 | B16: 9051705.4 | D16: 1607602 | E16: 0
A17: Zn-65 | B17: 3323010 | E17: 0
A18: Sr-89 ** | B18: 13094.4 | E18: 0
A19: Sr-90 ** | B19: 70920 | E19: 0
A20: Y-90 | E20: 0
A21: Zr-95 | E21: 0
A22: Zr-97
A23: Nb-95 | E23: 0
A24: Mo-99 | E24: 0
A25: Tc-99
A26: Tc-99m | E26: 0
A27: Ru-103 | E27: 0
A28: Ru-106
A29: Ag-110m | B29: 957200 | E29: 0
A30: Sb-122
A31: Sb-124 | B31: 1157260 | E31: 0
A32: Sb-125 | B32: 1786570 | E32: 0
A33: Te-123m | B33: 287068 | C33: 73000
A34: Te-132
A35: I-131 | B35: 145269 | E35: 0
A36: I-133 | E36: 0
A37: Cs-134 | B37: 28386 | E37: 0
A38: Cs-136
A39: Cs-137 | B39: 1658790 | E39: 0
A40: Ba-140 | E40: 0
A41: La-140 | E41: 0
...

Sheet März
A1: Radioaktive Abgaben der schweizerischen Kernkraftwerke*
A2: Abgabepfad: Abwasser
A3: Zeitraum: | B3: 1. März 2022 - 31. März 2026
B5: Aktivitätsabgaben [Bq]
A6: Nuklid | B6: KKB 1/2 | C6: KKG | D6: KKL | E6: KKM
A7: H-3 | B7: 542364747000 | C7: 150000000000 | D7: 41983200000 | E7: 49000000000
A8: Na-22
A9: Na-24 | B9: 238682 | E9: 0
A10: Cr-51 | E10: 0
A11: Mn-54 | B11: 1619384.2 | E11: 0
A12: Fe-59 | E12: 0
A13: Co-56
A14: Co-57 | E14: 0
A15: Co-58 | B15: 4124397.7 | E15: 0
A16: Co-60 | B16: 28774839 | D16: 2362584 | E16: 769008
A17: Zn-65 | B17: 3060185.3 | E17: 0
A18: Sr-89 ** | B18: 18322 | E18: 0
A19: Sr-90 ** | B19: 49461.6 | E19: 0
A20: Y-90 | E20: 0
A21: Zr-95 | B21: 108605 | E21: 0
A22: Zr-97
A23: Nb-95 | B23: 178350 | E23: 0
A24: Mo-99 | E24: 0
A25: Tc-99
A26: Tc-99m | B26: 23762.16 | E26: 0
A27: Ru-103 | E27: 0
A28: Ru-106
A29: Ag-110m | B29: 1174449.3 | E29: 0
A30: Sb-122 | B30: 1479557.4
A31: Sb-124 | B31: 11774438 | E31: 0
A32: Sb-125 | B32: 5485812.9 | E32: 0
A33: Te-123m | B33: 2355573.9
A34: Te-132 | B34: 2558514.6
A35: I-131 | B35: 842192.1 | E35: 0
A36: I-133 | E36: 0
A37: Cs-134 | B37: 30082 | E37: 0
A38: Cs-136
A39: Cs-137 | B39: 5393914.4 | E39: 0
A40: Ba-140 | E40: 0
A41: La-140 | E41: 0
...

Sheet April
A1: Radioaktive Abgaben der schweizerischen Kernkraftwerke*
A2: Abgabepfad: Abwasser
A3: Zeitraum: | B3: 1. April 2026 - 30. April 2026
B5: Aktivitätsabgaben [Bq]
A6: Nuklid | B6: KKB 1/2 | C6: KKG | D6: KKL | E6: KKM
A7: H-3 | B7: 232639573800 | C7: 110000000000 | D7: 66758900000 | E7: 19179060600
A8: Na-22
A9: Na-24 | B9: 7252859.7 | E9: 0
A10: Cr-51 | B10: 497620 | E10: 0
A11: Mn-54 | B11: 1998502.4 | E11: 0
A12: Fe-59 | E12: 0
A13: Co-56
A14: Co-57 | E14: 0
A15: Co-58 | B15: 3420920.3 | E15: 0
A16: Co-60 | B16: 16022450 | D16: 1954173 | E16: 664146
A17: Zn-65 | B17: 918866.2 | E17: 0
A18: Sr-89 ** | B18: 227457.55 | E18: 0
A19: Sr-90 ** | B19: 175417.3 | E19: 0
A20: Y-90 | E20: 0
A21: Zr-95 | E21: 0
A22: Zr-97
A23: Nb-95 | B23: 120600.6 | E23: 0
A24: Mo-99 | E24: 0
A25: Tc-99
A26: Tc-99m | E26: 0
A27: Ru-103 | B27: 176592.76 | E27: 0
A28: Ru-106
A29: Ag-110m | B29: 1606353.5 | E29: 0
A30: Sb-122
A31: Sb-124 | B31: 33294454 | E31: 0
A32: Sb-125 | B32: 5520122.2 | E32: 0
A33: Te-123m | B33: 6369417.6 | C33: 34000
A34: Te-132
A35: I-131 | B35: 192366.41 | E35: 0
A36: I-133 | E36: 0
A37: Cs-134 | E37: 0
A38: Cs-136
A39: Cs-137 | B39: 9974534.6 | E39: 0
A40: Ba-140 | E40: 0
A41: La-140 | E41: 0
...

Sheet Mai
A1: Radioaktive Abgaben der schweizerischen Kernkraftwerke*
A2: Abgabepfad: Abwasser
A3: Zeitraum: | B3: 1. Mai 2026 - 31. Mai 2026
B5: Aktivitätsabgaben [Bq]
A6: Nuklid | B6: KKB 1/2 | C6: KKG | D6: KKL | E6: KKM
A7: H-3 | B7: 513996197040 | C7: 38000000000 | D7: 78840000000 | E7: 3102700000
A8: Na-22
A9: Na-24 | B9: 1768563.5 | E9: 0
A10: Cr-51 | E10: 0
A11: Mn-54 | B11: 2479185.7 | D11: 2875500 | E11: 0
A12: Fe-59 | E12: 0
A13: Co-56
A14: Co-57 | E14: 0
A15: Co-58 | B15: 7426844.8 | D15: 1901070 | E15: 0
A16: Co-60 | B16: 26853669 | D16: 18927000 | E16: 300472
A17: Zn-65 | B17: 674969.6 | E17: 0
A18: Sr-89 ** | B18: 220713.9 | E18: 0
A19: Sr-90 ** | B19: 86947.9 | E19: 0
A20: Y-90 | E20: 0
A21: Zr-95 | E21: 0
A22: Zr-97
A23: Nb-95 | E23: 0
A24: Mo-99 | E24: 0
A25: Tc-99
A26: Tc-99m | E26: 0
A27: Ru-103 | E27: 0
A28: Ru-106
A29: Ag-110m | B29: 228597.06 | E29: 0
A30: Sb-122
A31: Sb-124 | B31: 74482211 | E31: 0
A32: Sb-125 | B32: 9993685.1 | E32: 0
A33: Te-123m | B33: 5605110
A34: Te-132
A35: I-131 | B35: 190758 | E35: 0
A36: I-133 | B36: 44468.07 | E36: 0
A37: Cs-134 | B37: 55632 | E37: 0
A38: Cs-136
A39: Cs-137 | B39: 8927772.1 | E39: 0
A40: Ba-140 | E40: 0
A41: La-140 | E41: 0
...

Sheet Juni
A1: Radioaktive Abgaben der schweizerischen Kernkraftwerke*
A2: Abgabepfad: Abwasser
A3: Zeitraum: | B3: 1. Juni 2026 - 30. Juni 2026
B5: Aktivitätsabgaben [Bq]
A6: Nuklid | B6: KKB 1/2 | C6: KKG | D6: KKL | E6: KKM
A7: H-3 | B7: 744208480400 | C7: 3400000000000 | D7: 19145700000 | E7: 1455054200
A8: Na-22
A9: Na-24 | B9: 438069.52 | E9: 0
A10: Cr-51 | E10: 0
A11: Mn-54 | B11: 979741.04 | E11: 0
A12: Fe-59 | E12: 0
A13: Co-56
A14: Co-57 | E14: 0
A15: Co-58 | B15: 3947732.6 | E15: 0
A16: Co-60 | B16: 22820737 | C16: 88000 | D16: 3042039 | E16: 135021.6
A17: Zn-65 | B17: 618461.9 | E17: 0
A18: Sr-89 ** | B18: 201815.4 | E18: 0
A19: Sr-90 ** | B19: 154272.39 | E19: 0
A20: Y-90 | E20: 0
A21: Zr-95 | E21: 0
A22: Zr-97
A23: Nb-95 | E23: 0
A24: Mo-99 | E24: 0
A25: Tc-99
A26: Tc-99m | E26: 0
A27: Ru-103 | E27: 0
A28: Ru-106
A29: Ag-110m | B29: 65464 | E29: 0
A30: Sb-122
A31: Sb-124 | B31: 13163746 | E31: 0
A32: Sb-125 | B32: 3133070.2 | E32: 0
A33: Te-123m | B33: 1068056.3 | C33: 440000
A34: Te-132
A35: I-131 | B35: 116694 | E35: 0
A36: I-133 | E36: 0
A37: Cs-134 | B37: 86518 | E37: 0
A38: Cs-136
A39: Cs-137 | B39: 3698526.8 | E39: 130378
A40: Ba-140 | E40: 0
A41: La-140 | E41: 0
...

Sheet Juli
A1: Radioaktive Abgaben der schweizerischen Kernkraftwerke*
A2: Abgabepfad: Abwasser
A3: Zeitraum: | B3: 1. Juli 2026 - 31. Juli 2026
B5: Aktivitätsabgaben [Bq]
A6: Nuklid | B6: KKB 1/2 | C6: KKG | D6: KKL | E6: KKM
A7: H-3 | B7: 2874354792800 | C7: 45000000000 | D7: 23106100000 | E7: 1282265300
A8: Na-22
A9: Na-24 | B9: 445643.5 | E9: 0
A10: Cr-51 | E10: 0
A11: Mn-54 | B11: 1370890.3 | E11: 0
A12: Fe-59 | E12: 0
A13: Co-56
A14: Co-57 | E14: 0
A15: Co-58 | B15: 4370582.2 | E15: 0
A16: Co-60 | B16: 2.7527292e+08 | D16: 4379060 | E16: 0
A17: Zn-65 | B17: 212806.38 | E17: 0
A18: Sr-89 ** | B18: 156305.4 | E18: 0
A19: Sr-90 ** | B19: 128599.2 | E19: 0
A20: Y-90 | E20: 0
A21: Zr-95 | E21: 0
A22: Zr-97
A23: Nb-95 | E23: 0
A24: Mo-99 | E24: 0
A25: Tc-99
A26: Tc-99m | B26: 51463.72 | E26: 0
A27: Ru-103 | E27: 0
A28: Ru-106
A29: Ag-110m | B29: 533865.66 | E29: 0
A30: Sb-122 | B30: 570705.5
A31: Sb-124 | B31: 23311787 | E31: 0
A32: Sb-125 | B32: 6321524.1 | E32: 0
A33: Te-123m | B33: 343731.21 | C33: 260000
A34: Te-132
A35: I-131 | B35: 178977.24 | E35: 0
A36: I-133 | B36: 67435.61 | E36: 0
A37: Cs-134 | B37: 696574.96 | E37: 0
A38: Cs-136
A39: Cs-137 | B39: 12915465 | E39: 0
A40: Ba-140 | E40: 0
A41: La-140 | E41: 0
...

Sheet August
A1: Radioaktive Abgaben der schweizerischen Kernkraftwerke*
A2: Abgabepfad: Abwasser
A3: Zeitraum: | B3: 1. August 2022 - 31. August 2022
B5: Aktivitätsabgaben [Bq]
A6: Nuklid | B6: KKB 1/2 | C6: KKG | D6: KKL | E6: KKM
A7: H-3
A8: Na-22
A9: Na-24
A10: Cr-51
A11: Mn-54
A12: Fe-59
A13: Co-56
A14: Co-57
A15: Co-58
A16: Co-60
A17: Zn-65
A18: Sr-89 **
... A49: ** KKL Vormonatswerte

Sheet September
A1: Radioaktive Abgaben der schweizerischen Kernkraftwerke*
A2: Abgabepfad: Abwasser
A3: Zeitraum: | B3: 1. September 2022 - 30. September 2022
B5: Aktivitätsabgaben [Bq]
A6: Nuklid | B6: KKB 1/2 | C6: KKG | D6: KKL | E6: KKM
A7: H-3
A8: Na-22
A9: Na-24
A10: Cr-51
A11: Mn-54
A12: Fe-59
A13: Co-56
A14: Co-57
A15: Co-58
A16: Co-60
A17: Zn-65
A18: Sr-89 **
... A49: ** für KKL und KKB werden für Strontium messtechnisch bedingt die Werte des Vormonates angegeben

Sheet Oktober
A1: Radioaktive Abgaben der schweizerischen Kernkraftwerke*
A2: Abgabepfad: Abwasser
A3: Zeitraum: | B3: 1. Oktober 2022 - 31. Oktober 2022
B5: Aktivitätsabgaben [Bq]
A6: Nuklid | B6: KKB 1/2 | C6: KKG | D6: KKL | E6: KKM
A7: H-3
A8: Na-22
A9: Na-24
A10: Cr-51
A11: Mn-54
A12: Fe-59
A13: Co-56
A14: Co-57
A15: Co-58
A16: Co-60
A17: Zn-65
A18: Sr-89 **
... A49: ** für KKL und KKB werden für Strontium messtechnisch bedingt die Werte des Vormonates angegeben

Sheet November
A1: Radioaktive Abgaben der schweizerischen Kernkraftwerke*
A2: Abgabepfad: Abwasser
A3: Zeitraum: | B3: 1. November 2022 - 30. November 2022
B5: Aktivitätsabgaben [Bq]
A6: Nuklid | B6: KKB 1/2 | C6: KKG | D6: KKL | E6: KKM
A7: H-3
A8: Na-22
A9: Na-24
A10: Cr-51
A11: Mn-54
A12: Fe-59
A13: Co-56
A14: Co-57
A15: Co-58
A16: Co-60
A17: Zn-65
A18: Sr-89 **
... A49: ** für KKL und KKB werden für Strontium messtechnisch bedingt die Werte des Vormonates angegeben

Sheet Dezember
A1: Radioaktive Abgaben der schweizerischen Kernkraftwerke*
A2: Abgabepfad: Abwasser
A3: Zeitraum: | B3: 1. Dezember 2022 - 31. Dezember 2022
B5: Aktivitätsabgaben [Bq]
A6: Nuklid | B6: KKB 1/2 | C6: KKG | D6: KKL | E6: KKM
A7: H-3
A8: Na-22
A9: Na-24
A10: Cr-51
A11: Mn-54
A12: Fe-59
A13: Co-56
A14: Co-57
A15: Co-58
A16: Co-60
A17: Zn-65
A18: Sr-89 **
... A49: ** für KKL und KKB werden für Strontium messtechnisch bedingt die Werte des Vormonates angegeben

Sheet Jahressumme
A1: Radioaktive Abgaben der schweizerischen Kernkraftwerke*
A2: Abgabepfad: Abwasser
A3: Zeitraum: | B3: 1. Januar 2026 - 31. Juli 2026
B5: Aktivitätsabgaben [Bq]
A6: Nuklid | B6: KKB 1/2 | C6: KKG | D6: KKL | E6: KKM
A7: H-3 | B7: 6493254599040 | C7: 3906000000000 | D7: 280383300000 | E7: 77912947700
A8: Na-22
A9: Na-24 | B9: 10143818 | E9: 0
A10: Cr-51 | B10: 497620 | E10: 0
A11: Mn-54 | B11: 9256811.6 | D11: 3047604.6 | E11: 0
A12: Fe-59 | E12: 0
A13: Co-56
A14: Co-57 | E14: 0
A15: Co-58 | B15: 24096054 | D15: 1901070 | E15: 0
A16: Co-60 | B16: 3.8566658e+08 | C16: 88000 | D16: 33671877 | E16: 1868647.6
A17: Zn-65 | B17: 12046647 | E17: 0
A18: Sr-89 ** | B18: 853979.93 | E18: 0
A19: Sr-90 ** | B19: 745761.59 | E19: 0
A20: Y-90 | E20: 0
A21: Zr-95 | B21: 108605 | E21: 0
A22: Zr-97
A23: Nb-95 | B23: 298950.6 | E23: 0
A24: Mo-99 | E24: 0
A25: Tc-99
A26: Tc-99m | B26: 75225.88 | E26: 0
A27: Ru-103 | B27: 176592.76 | E27: 0
A28: Ru-106
A29: Ag-110m | B29: 5097000.8 | E29: 0
A30: Sb-122 | B30: 2050262.9
A31: Sb-124 | B31: 1.6069545e+08 | E31: 0
A32: Sb-125 | B32: 35841982 | E32: 0
A33: Te-123m | B33: 16834286 | C33: 807000
A34: Te-132 | B34: 2558514.6
A35: I-131 | B35: 1739681.8 | E35: 0
A36: I-133 | B36: 111903.68 | E36: 0
A37: Cs-134 | B37: 897192.96 | E37: 0
A38: Cs-136
A39: Cs-137 | B39: 44341621 | E39: 130378
A40: Ba-140 | E40: 0
A41: La-140 | E41: 0
...

Sheet Zusammenzug
A1: Tritium
B2: KKB | C2: KKG | D2: KKL | E2: KKM
A3: Januar | B3: =Januar!B$7 -> 11730908000 | C3: =Januar!C$7 -> 33000000000 | D3: =Januar!D$7 -> 19962600000 | E3: =Januar!E$7 -> 1370250000
A4: Februar | B4: =Februar!B$7 -> 1573959900000 | C4: =Februar!C$7 -> 130000000000 | D4: =Februar!D$7 -> 30586800000 | E4: =Februar!E$7 -> 2656276800
A5: März | B5: =März!B$7 -> 542364747000 | C5: =März!C$7 -> 150000000000 | D5: =März!D$7 -> 41983200000 | E5: =März!E$7 -> 49000000000
A6: April | B6: =April!B$7 -> 232639573800 | C6: =April!C$7 -> 110000000000 | D6: =April!D$7 -> 66758900000 | E6: =April!E$7 -> 19179060600
A7: Mai | B7: =Mai!B$7 -> 513996197040 | C7: =Mai!C$7 -> 38000000000 | D7: =Mai!D$7 -> 78840000000 | E7: =Mai!E$7 -> 3102700000
A8: Juni | B8: =Juni!B$7 -> 744208480400 | C8: =Juni!C$7 -> 3400000000000 | D8: =Juni!D$7 -> 19145700000 | E8: =Juni!E$7 -> 1455054200
A9: Juli | B9: =Juli!B$7 -> 2874354792800 | C9: =Juli!C$7 -> 45000000000 | D9: =Juli!D$7 -> 23106100000 | E9: =Juli!E$7 -> 1282265300
A10: August | B10: =August!B$7 -> 0 | C10: =August!C$7 -> 0 | D10: =August!D$7 -> 0 | E10: =August!E$7 -> 0
A11: September | B11: =September!B$7 -> 0 | C11: =September!C$7 -> 0 | D11: =September!D$7 -> 0 | E11: =September!E$7 -> 0
A12: Oktober | B12: =Oktober!B$7 -> 0 | C12: =Oktober!C$7 -> 0 | D12: =Oktober!D$7 -> 0 | E12: =Oktober!E$7 -> 0
A13: November | B13: =November!B$7 -> 0 | C13: =November!C$7 -> 0 | D13: =November!D$7 -> 0 | E13: =November!E$7 -> 0
A14: Dezember | B14: =Dezember!B$7 -> 0 | C14: =Dezember!C$7 -> 0 | D14: =Dezember!D$7 -> 0 | E14: =Dezember!E$7 -> 0
A16: Jahressumme | B16: =Jahressumme!B$7 -> 6493254599040 | C16: =Jahressumme!C$7 -> 3906000000000 | D16: =Jahressumme!D$7 -> 280383300000 | E16: =Jahressumme!E$7 -> 77912947700
A18: Andere flüssige | B18: Summe über alle Nuklide | F18: Aequivalentabgaben
B19: KKB | C19: KKG | D19: KKL | E19: KKM | F19: KKB | G19: KKG | H19: KKL | I19: KKM
A20: Januar | B20: =Januar!B$45 -> 21459018 | C20: =Januar!C$45 -> 0 | D20: =Januar!D$45 -> 1399419 | E20: =Januar!E$45 -> 0 | F20: =Januar!B$46 -> 3531835.5 | G20: =Januar!C$46 -> 0 | H20: =Januar!D$46 -> 333195 | I20: =Januar!E$46 -> 0
A21: Februar | B21: =Februar!B$45 -> 19135155 | C21: =Februar!C$45 -> 73000 | D21: =Februar!D$45 -> 1779706.6 | E21: =Februar!E$45 -> 0 | F21: =Februar!B$46 -> 3687331.6 | G21: =Februar!C$46 -> 5214.2857 | H21: =Februar!D$46 -> 387543.06 | I21: =Februar!E$46 -> 0
A22: März | B22: =März!B$46 -> 70650403 | C22: =März!C$46 -> 0 | D22: =März!D$46 -> 2362584 | E22: =März!E$46 -> 769008 | F22: =März!B$47 -> 13209409 | G22: =März!C$47 -> 0 | H22: =März!D$47 -> 562520 | I22: =März!E$47 -> 183097.14
A23: April | B23: =April!B$46 -> 87768535 | C23: =April!C$46 -> 34000 | D23: =April!D$46 -> 1954173 | E23: =April!E$46 -> 664146 | F23: =April!B$47 -> 12761123 | G23: =April!C$47 -> 2428.5714 | H23: =April!D$47 -> 465279.29 | I23: =April!E$47 -> 158130
A24: Mai | B24: =Mai!B$45 -> 1.3903913e+08 | C24: =Mai!C$45 -> 0 | D24: =Mai!D$45 -> 23703570 | E24: =Mai!E$45 -> 300472 | F24: =Mai!B$46 -> 20639593 | G24: =Mai!C$46 -> 0 | H24: =Mai!D$46 -> 4656713.6 | I24: =Mai!E$46 -> 71540.952
A25: Juni | B25: =Juni!B$45 -> 50492906 | C25: =Juni!C$45 -> 528000 | D25: =Juni!D$45 -> 3042039 | E25: =Juni!E$45 -> 265399.6 | F25: =Juni!B$46 -> 9150670 | G25: =Juni!C$46 -> 52380.952 | H25: =Juni!D$46 -> 724295 | I25: =Juni!E$46 -> 68364.111
A26: Juli | B26: =Juli!B$45 -> 3.2694928e+08 | C26: =Juli!C$45 -> 260000 | D26: =Juli!D$45 -> 4379060 | E26: =Juli!E$45 -> 0 | F26: =Juli!B$46 -> 73641533 | G26: =Juli!C$46 -> 18571.429 | H26: =Juli!D$46 -> 1042633.3 | I26: =Juli!E$46 -> 0
A27: August | B27: =August!B$45 -> 0 | C27: =August!C$45 -> 0 | D27: =August!D$45 -> 0 | E27: =August!E$45 -> 0 | F27: =August!B$46 -> 0 | G27: =August!C$46 -> 0 | H27: =August!D$46 -> 0 | I27: =August!E$46 -> 0
A28: September | B28: =September!B$45 -> 0 | C28: =September!C$45 -> 0 | D28: =September!D$45 -> 0 | E28: =September!E$45 -> 0 | F28: =September!B$46 -> 0 | G28: =September!C$46 -> 0 | H28: =September!D$46 -> 0 | I28: =September!E$46 -> 0
A29: Oktober | B29: =Oktober!B$45 -> 0 | C29: =Oktober!C$45 -> 0 | D29: =Oktober!D$45 -> 0 | E29: =Oktober!E$45 -> 0 | F29: =Oktober!B$46 -> 0 | G29: =Oktober!C$46 -> 0 | H29: =Oktober!D$46 -> 0 | I29: =Oktober!E$46 -> 0
A30: November | B30: =November!B$45 -> 0 | C30: =November!C$45 -> 0 | D30: =November!D$45 -> 0 | E30: =November!E$45 -> 0 | F30: =November!B$46 -> 0 | G30: =November!C$46 -> 0 | H30: =November!D$46 -> 0 | I30: =November!E$46 -> 0
A31: Dezember | B31: =Dezember!B$45 -> 0 | C31: =Dezember!C$45 -> 0 | D31: =Dezember!D$45 -> 0 | E31: =Dezember!E$45 -> 0 | F31: =Dezember!B$46 -> 0 | G31: =Dezember!C$46 -> 0 | H31: =Dezember!D$46 -> 0 | I31: =Dezember!E$46 -> 0
A33: Jahressumme | B33: =Jahressumme!B$46 -> 7.1549442e+08 | C33: =Jahressumme!C$46 -> 895000 | D33: =Jahressumme!D$46 -> 38620552 | E33: =Jahressumme!E$46 -> 1999025.6 | F33: =Jahressumme!B$47 -> 1.3662149e+08 | G33: =Jahressumme!C$47 -> 78595.238 | H33: =Jahressumme!D$47 -> 8172179.3 | I33: =Jahressumme!E$47 -> 481132.21
